BEGIN:VCALENDAR
METHOD:PUBLISH
PRODID:-//Weblication CMS
VERSION:2.0
BEGIN:VEVENT
SUMMARY:Telefon-/Videokonferenz (Betreuertreffen) FB Kinderfeuerwehren
DTSTART:20200401T190000
DTEND:20200401T210000
DESCRIPTION:Veranstaltung vom FB Kinderfeuerwehr
LOCATION:
UID:https://www.kfv-lds.de/cms/02_jugend/Termine/termine/1302140749.php
URL:https://www.kfv-lds.de/cms/02_jugend/Termine/termine/1302140749.php
END:VEVENT
END:VCALENDAR