BEGIN:VCALENDAR
METHOD:PUBLISH
PRODID:-//Weblication CMS
VERSION:2.0
BEGIN:VEVENT
SUMMARY:ABGESAGT - Landesmeisterschaft in den Pokaldisziplinen der LJF BB
DTSTART:20200918T170000
DTEND:20200920T170000
DESCRIPTION:
LOCATION:
UID:https://www.kfv-lds.de/cms/02_jugend/Termine/termine/2543137519.php
URL:https://www.kfv-lds.de/cms/02_jugend/Termine/termine/2543137519.php
END:VEVENT
END:VCALENDAR