BEGIN:VCALENDAR
METHOD:PUBLISH
PRODID:-//Weblication CMS
VERSION:2.0
BEGIN:VEVENT
SUMMARY:ABGESAGT !!! Workshop 2 Fördermöglichkeiten in der Jugendfeuerwehr
DTSTART:20200406T183000
DTEND:20200406T203000
DESCRIPTION:Veranstaltung vom Fachbereich Bildung
LOCATION:
UID:https://www.kfv-lds.de/cms/02_jugend/Termine/termine/5917566755.php
URL:https://www.kfv-lds.de/cms/02_jugend/Termine/termine/5917566755.php
END:VEVENT
END:VCALENDAR