BEGIN:VCALENDAR
METHOD:PUBLISH
PRODID:-//Weblication CMS
VERSION:2.0
BEGIN:VEVENT
SUMMARY:ABGESAGT !!! JuLeiCa Teil 2
DTSTART:20200424T170000
DTEND:20200426T150000
DESCRIPTION:Veranstaltung vom Fachbereich Bildung
LOCATION:
UID:https://www.kfv-lds.de/cms/02_jugend/Termine/termine/5924675615.php
URL:https://www.kfv-lds.de/cms/02_jugend/Termine/termine/5924675615.php
END:VEVENT
END:VCALENDAR