BEGIN:VCALENDAR
METHOD:PUBLISH
PRODID:-//Weblication CMS
VERSION:2.0
BEGIN:VEVENT
SUMMARY:ABGESAGT !!! JuLeiCa Teil 1
DTSTART:20200320T170000
DTEND:20200322T150000
DESCRIPTION:Veranstaltung vom Fachbereich Bildung
LOCATION:
UID:https://www.kfv-lds.de/cms/02_jugend/Termine/termine/8646885868.php
URL:https://www.kfv-lds.de/cms/02_jugend/Termine/termine/8646885868.php
END:VEVENT
END:VCALENDAR